BEGIN:VCALENDAR
PRODID:-//Google Inc//Google Calendar 70.9054//EN
VERSION:2.0
CALSCALE:GREGORIAN
METHOD:REQUEST
BEGIN:VTIMEZONE
TZID:America/Denver
X-LIC-LOCATION:America/Denver
BEGIN:DAYLIGHT
TZOFFSETFROM:-0700
TZOFFSETTO:-0600
TZNAME:MDT
DTSTART:19700308T020000
RRULE:FREQ=YEARLY;BYMONTH=3;BYDAY=2SU
END:DAYLIGHT
BEGIN:STANDARD
TZOFFSETFROM:-0600
TZOFFSETTO:-0700
TZNAME:MST
DTSTART:19701101T020000
RRULE:FREQ=YEARLY;BYMONTH=11;BYDAY=1SU
END:STANDARD
END:VTIMEZONE
BEGIN:VEVENT
DTSTART;TZID=America/Denver:20210216T173000
DTEND;TZID=America/Denver:20210216T180000
RRULE:FREQ=WEEKLY;WKST=SU;INTERVAL=2;BYDAY=TU
DTSTAMP:20210216T170809Z
ORGANIZER;CN=Simon Glass:mailto:sjg@google.com
UID:060j5164nglgol7uvtc7ue9eg0_R20210217T003000@google.com
ATTENDEE;CUTYPE=INDIVIDUAL;ROLE=REQ-PARTICIPANT;PARTSTAT=NEEDS-ACTION;RSVP=
 TRUE;CN=Lukasz Majewski;X-NUM-GUESTS=0:mailto:lukma@denx.de
ATTENDEE;CUTYPE=INDIVIDUAL;ROLE=OPT-PARTICIPANT;PARTSTAT=NEEDS-ACTION;RSVP=
 TRUE;CN=Bin Meng;X-NUM-GUESTS=0:mailto:bmeng.cn@gmail.com
ATTENDEE;CUTYPE=INDIVIDUAL;ROLE=REQ-PARTICIPANT;PARTSTAT=NEEDS-ACTION;RSVP=
 TRUE;CN=twoerner@gmail.com;X-NUM-GUESTS=0:mailto:twoerner@gmail.com
ATTENDEE;CUTYPE=INDIVIDUAL;ROLE=REQ-PARTICIPANT;PARTSTAT=ACCEPTED;RSVP=TRUE
 ;CN=peng.fan@nxp.com;X-NUM-GUESTS=0:mailto:peng.fan@nxp.com
ATTENDEE;CUTYPE=INDIVIDUAL;ROLE=REQ-PARTICIPANT;PARTSTAT=NEEDS-ACTION;RSVP=
 TRUE;CN=Walter Lozano;X-NUM-GUESTS=0:mailto:walter.lozano@collabora.com
ATTENDEE;CUTYPE=INDIVIDUAL;ROLE=REQ-PARTICIPANT;PARTSTAT=NEEDS-ACTION;RSVP=
 TRUE;CN=Daniel Schwierzeck;X-NUM-GUESTS=0:mailto:daniel.schwierzeck@gmail.c
 om
ATTENDEE;CUTYPE=INDIVIDUAL;ROLE=REQ-PARTICIPANT;PARTSTAT=ACCEPTED;RSVP=TRUE
 ;CN=Simon Glass;X-NUM-GUESTS=0:mailto:sjg@google.com
ATTENDEE;CUTYPE=INDIVIDUAL;ROLE=OPT-PARTICIPANT;PARTSTAT=NEEDS-ACTION;RSVP=
 TRUE;CN=trini@konsulko.com;X-NUM-GUESTS=0:mailto:trini@konsulko.com
ATTENDEE;CUTYPE=INDIVIDUAL;ROLE=REQ-PARTICIPANT;PARTSTAT=NEEDS-ACTION;RSVP=
 TRUE;CN=Michal Simek;X-NUM-GUESTS=0:mailto:michal.simek@xilinx.com
ATTENDEE;CUTYPE=INDIVIDUAL;ROLE=OPT-PARTICIPANT;PARTSTAT=NEEDS-ACTION;RSVP=
 TRUE;CN=u-boot-custodians@lists.denx.de;X-NUM-GUESTS=0:mailto:u-boot-custod
 ians@lists.denx.de
ATTENDEE;CUTYPE=INDIVIDUAL;ROLE=OPT-PARTICIPANT;PARTSTAT=NEEDS-ACTION;RSVP=
 TRUE;CN=andriy.shevchenko@linux.intel.com;X-NUM-GUESTS=0:mailto:andriy.shev
 chenko@linux.intel.com
ATTENDEE;CUTYPE=INDIVIDUAL;ROLE=OPT-PARTICIPANT;PARTSTAT=ACCEPTED;RSVP=TRUE
 ;CN=Heinrich Schuchardt;X-NUM-GUESTS=0:mailto:xypron.glpk@gmx.de
ATTENDEE;CUTYPE=INDIVIDUAL;ROLE=REQ-PARTICIPANT;PARTSTAT=NEEDS-ACTION;RSVP=
 TRUE;CN=Sean Anderson;X-NUM-GUESTS=0:mailto:seanga2@gmail.com
ATTENDEE;CUTYPE=INDIVIDUAL;ROLE=REQ-PARTICIPANT;PARTSTAT=NEEDS-ACTION;RSVP=
 TRUE;CN=Igor Opaniuk;X-NUM-GUESTS=0:mailto:igor.opaniuk@gmail.com
ATTENDEE;CUTYPE=INDIVIDUAL;ROLE=REQ-PARTICIPANT;PARTSTAT=NEEDS-ACTION;RSVP=
 TRUE;CN=Ilias Apalodimas;X-NUM-GUESTS=0:mailto:ilias.apalodimas@linaro.org
ATTENDEE;CUTYPE=INDIVIDUAL;ROLE=REQ-PARTICIPANT;PARTSTAT=DECLINED;RSVP=TRUE
 ;CN=monstr@monstr.eu;X-NUM-GUESTS=0:mailto:monstr@monstr.eu
ATTENDEE;CUTYPE=INDIVIDUAL;ROLE=REQ-PARTICIPANT;PARTSTAT=DECLINED;RSVP=TRUE
 ;CN="Shevchenko, Andriy";X-NUM-GUESTS=0:mailto:andriy.shevchenko@intel.com
ATTENDEE;CUTYPE=INDIVIDUAL;ROLE=REQ-PARTICIPANT;PARTSTAT=NEEDS-ACTION;RSVP=
 TRUE;CN=mbrugger@suse.com;X-NUM-GUESTS=0:mailto:mbrugger@suse.com
X-MICROSOFT-CDO-OWNERAPPTID:805078821
CREATED:20210127T212540Z
DESCRIPTION:(Asia+US time)<br><br>This call is held on jitsi...with Google 
 Meet as a backup if we have problems.<br><br>Please add topics 24 hours bef
 ore the meeting<br><br>Standing agenda:<br>- Get to know other U-Boot contr
 ibutors better<br>- Discuss new features / bugs<br><br>Click the following 
 link to join the meeting from your computer:&nbsp\;<a href="https://meet.ji
 t.si/uboot" id="ow1695" __is_owner="true">https://meet.jit.si/uboot</a>\n\n
 -::~:~::~:~:~:~:~:~:~:~:~:~:~:~:~:~:~:~:~:~:~:~:~:~:~:~:~:~:~:~:~:~:~:~:~:~
 :~:~::~:~::-\nPlease do not edit this section of the description.\n\nThis e
 vent has a video call.\nJoin: https://meet.google.com/ctd-ixfn-kjt\n(US) +1
  978-651-1046 PIN: 132174777#\nView more phone numbers: https://tel.meet/ct
 d-ixfn-kjt?pin=6952150195668&hs=7\n\nView your event at https://calendar.go
 ogle.com/calendar/event?action=VIEW&eid=MDYwajUxNjRuZ2xnb2w3dXZ0Yzd1ZTllZzB
 fUjIwMjEwMjE3VDAwMzAwMCB1LWJvb3QtY3VzdG9kaWFuc0BsaXN0cy5kZW54LmRl&tok=MTQjc
 2pnQGdvb2dsZS5jb20xZmZiYzQwYWZjY2UyNGI1YTFlOTgwOTFhODU1ZmI0NTM1MjIzNGMy&ctz
 =America%2FDenver&hl=en_GB&es=0.\n-::~:~::~:~:~:~:~:~:~:~:~:~:~:~:~:~:~:~:~
 :~:~:~:~:~:~:~:~:~:~:~:~:~:~:~:~:~:~:~::~:~::-
LAST-MODIFIED:20210216T170807Z
LOCATION:Jitsi Meeting - https://meet.jit.si/uboot
SEQUENCE:0
STATUS:CONFIRMED
SUMMARY:U-Boot Contributors (Asia + US\, jitsi only)
TRANSP:OPAQUE
ATTACH;FILENAME=U-Boot biweekly 2021;FMTTYPE=application/vnd.google-apps.ki
 x:https://docs.google.com/document/d/1YBOMsbM19uSFyoJWnt7-PsOLBaevzQUgV-hiR
 88a5-o/edit?usp=drive_web
END:VEVENT
END:VCALENDAR
