BEGIN:VCALENDAR
PRODID:-//Google Inc//Google Calendar 70.9054//EN
VERSION:2.0
CALSCALE:GREGORIAN
METHOD:REQUEST
BEGIN:VTIMEZONE
TZID:America/Denver
X-LIC-LOCATION:America/Denver
BEGIN:DAYLIGHT
TZOFFSETFROM:-0700
TZOFFSETTO:-0600
TZNAME:MDT
DTSTART:19700308T020000
RRULE:FREQ=YEARLY;BYMONTH=3;BYDAY=2SU
END:DAYLIGHT
BEGIN:STANDARD
TZOFFSETFROM:-0600
TZOFFSETTO:-0700
TZNAME:MST
DTSTART:19701101T020000
RRULE:FREQ=YEARLY;BYMONTH=11;BYDAY=1SU
END:STANDARD
END:VTIMEZONE
BEGIN:VEVENT
DTSTART;TZID=America/Denver:20210202T093000
DTEND;TZID=America/Denver:20210202T100000
RRULE:FREQ=WEEKLY;WKST=SU;UNTIL=20210216T065959Z;INTERVAL=2;BYDAY=TU
DTSTAMP:20210216T170720Z
ORGANIZER;CN=Simon Glass:mailto:sjg@google.com
UID:0lvvcm61ena4k72ct5gtr4ik8l_R20210202T163000@google.com
ATTENDEE;CUTYPE=INDIVIDUAL;ROLE=OPT-PARTICIPANT;PARTSTAT=ACCEPTED;RSVP=TRUE
 ;CN=Bin Meng;X-NUM-GUESTS=0:mailto:bmeng.cn@gmail.com
ATTENDEE;CUTYPE=INDIVIDUAL;ROLE=REQ-PARTICIPANT;PARTSTAT=ACCEPTED;RSVP=TRUE
 ;CN=Simon Glass;X-NUM-GUESTS=0:mailto:sjg@google.com
ATTENDEE;CUTYPE=INDIVIDUAL;ROLE=OPT-PARTICIPANT;PARTSTAT=ACCEPTED;RSVP=TRUE
 ;CN=Heinrich Schuchardt;X-NUM-GUESTS=0:mailto:xypron.glpk@gmx.de
ATTENDEE;CUTYPE=INDIVIDUAL;ROLE=OPT-PARTICIPANT;PARTSTAT=TENTATIVE;RSVP=TRU
 E;CN=trini@konsulko.com;X-NUM-GUESTS=0:mailto:trini@konsulko.com
ATTENDEE;CUTYPE=INDIVIDUAL;ROLE=REQ-PARTICIPANT;PARTSTAT=NEEDS-ACTION;RSVP=
 TRUE;CN=Daniel Schwierzeck;X-NUM-GUESTS=0:mailto:daniel.schwierzeck@gmail.c
 om
ATTENDEE;CUTYPE=INDIVIDUAL;ROLE=REQ-PARTICIPANT;PARTSTAT=NEEDS-ACTION;RSVP=
 TRUE;CN=Sean Anderson;X-NUM-GUESTS=0:mailto:seanga2@gmail.com
ATTENDEE;CUTYPE=INDIVIDUAL;ROLE=REQ-PARTICIPANT;PARTSTAT=ACCEPTED;RSVP=TRUE
 ;CN=Igor Opaniuk;X-NUM-GUESTS=0:mailto:igor.opaniuk@gmail.com
ATTENDEE;CUTYPE=INDIVIDUAL;ROLE=REQ-PARTICIPANT;PARTSTAT=NEEDS-ACTION;RSVP=
 TRUE;CN=twoerner@gmail.com;X-NUM-GUESTS=0:mailto:twoerner@gmail.com
ATTENDEE;CUTYPE=INDIVIDUAL;ROLE=REQ-PARTICIPANT;PARTSTAT=ACCEPTED;RSVP=TRUE
 ;CN=Ilias Apalodimas;X-NUM-GUESTS=0:mailto:ilias.apalodimas@linaro.org
ATTENDEE;CUTYPE=INDIVIDUAL;ROLE=OPT-PARTICIPANT;PARTSTAT=NEEDS-ACTION;RSVP=
 TRUE;CN=andriy.shevchenko@linux.intel.com;X-NUM-GUESTS=0:mailto:andriy.shev
 chenko@linux.intel.com
ATTENDEE;CUTYPE=INDIVIDUAL;ROLE=OPT-PARTICIPANT;PARTSTAT=TENTATIVE;RSVP=TRU
 E;CN=u-boot-custodians@lists.denx.de;X-NUM-GUESTS=0:mailto:u-boot-custodian
 s@lists.denx.de
ATTENDEE;CUTYPE=INDIVIDUAL;ROLE=REQ-PARTICIPANT;PARTSTAT=DECLINED;RSVP=TRUE
 ;CN=peng.fan@nxp.com;X-NUM-GUESTS=0:mailto:peng.fan@nxp.com
ATTENDEE;CUTYPE=INDIVIDUAL;ROLE=REQ-PARTICIPANT;PARTSTAT=NEEDS-ACTION;RSVP=
 TRUE;CN=Lukasz Majewski;X-NUM-GUESTS=0:mailto:lukma@denx.de
ATTENDEE;CUTYPE=INDIVIDUAL;ROLE=REQ-PARTICIPANT;PARTSTAT=NEEDS-ACTION;RSVP=
 TRUE;CN=Walter Lozano;X-NUM-GUESTS=0:mailto:walter.lozano@collabora.com
ATTENDEE;CUTYPE=INDIVIDUAL;ROLE=REQ-PARTICIPANT;PARTSTAT=NEEDS-ACTION;RSVP=
 TRUE;CN=Michal Simek;X-NUM-GUESTS=0:mailto:michal.simek@xilinx.com
ATTENDEE;CUTYPE=INDIVIDUAL;ROLE=REQ-PARTICIPANT;PARTSTAT=ACCEPTED;RSVP=TRUE
 ;CN=Heiko Schocher invitel;X-NUM-GUESTS=0:mailto:heiko.schocher@invitel.hu
ATTENDEE;CUTYPE=INDIVIDUAL;ROLE=REQ-PARTICIPANT;PARTSTAT=NEEDS-ACTION;RSVP=
 TRUE;CN=Matthias Brugger;X-NUM-GUESTS=0:mailto:mbrugger@suse.com
ATTENDEE;CUTYPE=INDIVIDUAL;ROLE=REQ-PARTICIPANT;PARTSTAT=ACCEPTED;RSVP=TRUE
 ;CN=Matthias Brugger;X-NUM-GUESTS=0:mailto:matthias.bgg@gmail.com
X-MICROSOFT-CDO-OWNERAPPTID:308969036
CREATED:20210113T030014Z
DESCRIPTION:Standing agenda:<br>- Get to know other U-Boot contributors bet
 ter<br>- Discuss new features / bugs<br><br>Click the following link to joi
 n the meeting from your computer: <a href="https://meet.jit.si/uboot" id="o
 w6873" __is_owner="true">https://meet.jit.si/uboot</a>\n\n-::~:~::~:~:~:~:~
 :~:~:~:~:~:~:~:~:~:~:~:~:~:~:~:~:~:~:~:~:~:~:~:~:~:~:~:~:~:~:~::~:~::-\nPle
 ase do not edit this section of the description.\n\nThis event has a video 
 call.\nJoin: https://meet.google.com/ctd-ixfn-kjt\n(US) +1 978-651-1046 PIN
 : 132174777#\nView more phone numbers: https://tel.meet/ctd-ixfn-kjt?pin=69
 52150195668&hs=7\n\nView your event at https://calendar.google.com/calendar
 /event?action=VIEW&eid=MGx2dmNtNjFlbmE0azcyY3Q1Z3RyNGlrOGxfUjIwMjEwMjAyVDE2
 MzAwMCB1LWJvb3QtY3VzdG9kaWFuc0BsaXN0cy5kZW54LmRl&tok=MTQjc2pnQGdvb2dsZS5jb2
 0xMjQ1YzFjNmI5ZWNmMmQ1MDAzZDQ1ZTY1MDgxNDU0ZjA1MjkyMTM5&ctz=America%2FDenver
 &hl=en_GB&es=0.\n-::~:~::~:~:~:~:~:~:~:~:~:~:~:~:~:~:~:~:~:~:~:~:~:~:~:~:~:
 ~:~:~:~:~:~:~:~:~:~:~::~:~::-
LAST-MODIFIED:20210216T170719Z
LOCATION:Jitsi Meeting - https://meet.jit.si/uboot
SEQUENCE:0
STATUS:CONFIRMED
SUMMARY:U-Boot Contributors
TRANSP:OPAQUE
ATTACH;FILENAME=U-Boot biweekly 2021;FMTTYPE=application/vnd.google-apps.ki
 x:https://docs.google.com/document/d/1YBOMsbM19uSFyoJWnt7-PsOLBaevzQUgV-hiR
 88a5-o/edit?usp=drive_web
END:VEVENT
END:VCALENDAR
