BEGIN:VCALENDAR
PRODID:-//Google Inc//Google Calendar 70.9054//EN
VERSION:2.0
CALSCALE:GREGORIAN
METHOD:REQUEST
BEGIN:VTIMEZONE
TZID:America/Denver
X-LIC-LOCATION:America/Denver
BEGIN:DAYLIGHT
TZOFFSETFROM:-0700
TZOFFSETTO:-0600
TZNAME:MDT
DTSTART:19700308T020000
RRULE:FREQ=YEARLY;BYMONTH=3;BYDAY=2SU
END:DAYLIGHT
BEGIN:STANDARD
TZOFFSETFROM:-0600
TZOFFSETTO:-0700
TZNAME:MST
DTSTART:19701101T020000
RRULE:FREQ=YEARLY;BYMONTH=11;BYDAY=1SU
END:STANDARD
END:VTIMEZONE
BEGIN:VEVENT
DTSTART;TZID=America/Denver:20210525T093000
DTEND;TZID=America/Denver:20210525T100000
RRULE:FREQ=WEEKLY;WKST=SU;UNTIL=20211026T055959Z;INTERVAL=2;BYDAY=TU
DTSTAMP:20211015T221918Z
ORGANIZER;CN=Simon Glass:mailto:sjg@google.com
UID:0lvvcm61ena4k72ct5gtr4ik8l_R20210525T153000@google.com
ATTENDEE;CUTYPE=INDIVIDUAL;ROLE=OPT-PARTICIPANT;PARTSTAT=ACCEPTED;RSVP=TRUE
 ;CN=Bin Meng;X-NUM-GUESTS=0:mailto:bmeng.cn@gmail.com
ATTENDEE;CUTYPE=INDIVIDUAL;ROLE=REQ-PARTICIPANT;PARTSTAT=ACCEPTED;RSVP=TRUE
 ;CN=Simon Glass;X-NUM-GUESTS=0:mailto:sjg@google.com
ATTENDEE;CUTYPE=INDIVIDUAL;ROLE=OPT-PARTICIPANT;PARTSTAT=ACCEPTED;RSVP=TRUE
 ;CN=Heinrich Schuchardt;X-NUM-GUESTS=0:mailto:xypron.glpk@gmx.de
ATTENDEE;CUTYPE=INDIVIDUAL;ROLE=OPT-PARTICIPANT;PARTSTAT=TENTATIVE;RSVP=TRU
 E;CN=trini@konsulko.com;X-NUM-GUESTS=0:mailto:trini@konsulko.com
ATTENDEE;CUTYPE=INDIVIDUAL;ROLE=REQ-PARTICIPANT;PARTSTAT=NEEDS-ACTION;RSVP=
 TRUE;CN=Daniel Schwierzeck;X-NUM-GUESTS=0:mailto:daniel.schwierzeck@gmail.c
 om
ATTENDEE;CUTYPE=INDIVIDUAL;ROLE=REQ-PARTICIPANT;PARTSTAT=NEEDS-ACTION;RSVP=
 TRUE;CN=Sean Anderson;X-NUM-GUESTS=0:mailto:seanga2@gmail.com
ATTENDEE;CUTYPE=INDIVIDUAL;ROLE=REQ-PARTICIPANT;PARTSTAT=ACCEPTED;RSVP=TRUE
 ;CN=Igor Opaniuk;X-NUM-GUESTS=0:mailto:igor.opaniuk@gmail.com
ATTENDEE;CUTYPE=INDIVIDUAL;ROLE=REQ-PARTICIPANT;PARTSTAT=NEEDS-ACTION;RSVP=
 TRUE;CN=twoerner@gmail.com;X-NUM-GUESTS=0:mailto:twoerner@gmail.com
ATTENDEE;CUTYPE=INDIVIDUAL;ROLE=REQ-PARTICIPANT;PARTSTAT=ACCEPTED;RSVP=TRUE
 ;CN=Ilias Apalodimas;X-NUM-GUESTS=0:mailto:ilias.apalodimas@linaro.org
ATTENDEE;CUTYPE=INDIVIDUAL;ROLE=REQ-PARTICIPANT;PARTSTAT=NEEDS-ACTION;RSVP=
 TRUE;CN=Matthias Brugger;X-NUM-GUESTS=0:mailto:mbrugger@suse.com
ATTENDEE;CUTYPE=INDIVIDUAL;ROLE=REQ-PARTICIPANT;PARTSTAT=ACCEPTED;RSVP=TRUE
 ;CN=Matthias Brugger;X-NUM-GUESTS=0:mailto:matthias.bgg@gmail.com
ATTENDEE;CUTYPE=INDIVIDUAL;ROLE=REQ-PARTICIPANT;PARTSTAT=ACCEPTED;RSVP=TRUE
 ;CN=rfried.dev@gmail.com;X-NUM-GUESTS=0:mailto:rfried.dev@gmail.com
ATTENDEE;CUTYPE=INDIVIDUAL;ROLE=OPT-PARTICIPANT;PARTSTAT=NEEDS-ACTION;RSVP=
 TRUE;CN=andriy.shevchenko@linux.intel.com;X-NUM-GUESTS=0:mailto:andriy.shev
 chenko@linux.intel.com
ATTENDEE;CUTYPE=INDIVIDUAL;ROLE=OPT-PARTICIPANT;PARTSTAT=TENTATIVE;RSVP=TRU
 E;CN=u-boot-custodians@lists.denx.de;X-NUM-GUESTS=0:mailto:u-boot-custodian
 s@lists.denx.de
ATTENDEE;CUTYPE=INDIVIDUAL;ROLE=REQ-PARTICIPANT;PARTSTAT=DECLINED;RSVP=TRUE
 ;CN=peng.fan@nxp.com;X-NUM-GUESTS=0:mailto:peng.fan@nxp.com
ATTENDEE;CUTYPE=INDIVIDUAL;ROLE=REQ-PARTICIPANT;PARTSTAT=NEEDS-ACTION;RSVP=
 TRUE;CN=Lukasz Majewski;X-NUM-GUESTS=0:mailto:lukma@denx.de
ATTENDEE;CUTYPE=INDIVIDUAL;ROLE=REQ-PARTICIPANT;PARTSTAT=ACCEPTED;RSVP=TRUE
 ;CN=Walter Lozano;X-NUM-GUESTS=0:mailto:walter.lozano@collabora.com
ATTENDEE;CUTYPE=INDIVIDUAL;ROLE=REQ-PARTICIPANT;PARTSTAT=NEEDS-ACTION;RSVP=
 TRUE;CN=Michal Simek;X-NUM-GUESTS=0:mailto:michal.simek@xilinx.com
ATTENDEE;CUTYPE=INDIVIDUAL;ROLE=REQ-PARTICIPANT;PARTSTAT=ACCEPTED;RSVP=TRUE
 ;CN=Heiko Schocher invitel;X-NUM-GUESTS=0:mailto:heiko.schocher@invitel.hu
X-MICROSOFT-CDO-OWNERAPPTID:-2125480931
CREATED:20210113T030014Z
DESCRIPTION:This call is held on jitsi...with Google Meet as a backup if we
  have problems.<br><br>Please add topics 24 hours before the meeting<br><br
 >Standing agenda:<br>- Get to know other U-Boot contributors better<br>- Di
 scuss new features / bugs<br><br>Click the following link to join the meeti
 ng from your computer: <a href="https://meet.jit.si/uboot" id="ow880" __is_
 owner="true">https://meet.jit.si/uboot</a>\n\n-::~:~::~:~:~:~:~:~:~:~:~:~:~
 :~:~:~:~:~:~:~:~:~:~:~:~:~:~:~:~:~:~:~:~:~:~:~:~:~::~:~::-\nDo not edit thi
 s section of the description.\n\nThis event has a video call.\nJoin: https:
 //meet.google.com/ctd-ixfn-kjt\n(US) +1 978-651-1046 PIN: 132174777#\nView 
 more phone numbers: https://tel.meet/ctd-ixfn-kjt?pin=6952150195668&hs=7\n\
 nView your event at https://calendar.google.com/calendar/event?action=VIEW&
 eid=MGx2dmNtNjFlbmE0azcyY3Q1Z3RyNGlrOGxfUjIwMjEwNTI1VDE1MzAwMCB1LWJvb3QtY3V
 zdG9kaWFuc0BsaXN0cy5kZW54LmRl&tok=MTQjc2pnQGdvb2dsZS5jb21mOGI1MWYwNWZlOGJiO
 DFhYWFlYjUxYWUzMWE3MjFjN2RiYjY5ODFi&ctz=America%2FDenver&hl=en_GB&es=0.\n-:
 :~:~::~:~:~:~:~:~:~:~:~:~:~:~:~:~:~:~:~:~:~:~:~:~:~:~:~:~:~:~:~:~:~:~:~:~:~
 :~::~:~::-
LAST-MODIFIED:20211015T221915Z
LOCATION:Jitsi Meeting - https://meet.jit.si/uboot
SEQUENCE:0
STATUS:CONFIRMED
SUMMARY:U-Boot Contributors (jitsi only)
TRANSP:OPAQUE
ATTACH;FILENAME=U-Boot biweekly 2021;FMTTYPE=application/vnd.google-apps.ki
 x:https://docs.google.com/document/d/1YBOMsbM19uSFyoJWnt7-PsOLBaevzQUgV-hiR
 88a5-o/edit?usp=drive_web
END:VEVENT
END:VCALENDAR
