BEGIN:VCALENDAR
PRODID:-//Google Inc//Google Calendar 70.9054//EN
VERSION:2.0
CALSCALE:GREGORIAN
METHOD:REQUEST
BEGIN:VTIMEZONE
TZID:America/Denver
X-LIC-LOCATION:America/Denver
BEGIN:DAYLIGHT
TZOFFSETFROM:-0700
TZOFFSETTO:-0600
TZNAME:MDT
DTSTART:19700308T020000
RRULE:FREQ=YEARLY;BYMONTH=3;BYDAY=2SU
END:DAYLIGHT
BEGIN:STANDARD
TZOFFSETFROM:-0600
TZOFFSETTO:-0700
TZNAME:MST
DTSTART:19701101T020000
RRULE:FREQ=YEARLY;BYMONTH=11;BYDAY=1SU
END:STANDARD
END:VTIMEZONE
BEGIN:VEVENT
DTSTART;TZID=America/Denver:20210119T093000
DTEND;TZID=America/Denver:20210119T100000
RRULE:FREQ=WEEKLY;WKST=SU;UNTIL=20210202T065959Z;INTERVAL=2;BYDAY=TU
DTSTAMP:20220326T195828Z
ORGANIZER;CN=Simon Glass:mailto:sjg@google.com
UID:0lvvcm61ena4k72ct5gtr4ik8l@google.com
ATTENDEE;CUTYPE=INDIVIDUAL;ROLE=OPT-PARTICIPANT;PARTSTAT=ACCEPTED;RSVP=TRUE
 ;CN=Bin Meng;X-NUM-GUESTS=0:mailto:bmeng.cn@gmail.com
ATTENDEE;CUTYPE=INDIVIDUAL;ROLE=REQ-PARTICIPANT;PARTSTAT=ACCEPTED;RSVP=TRUE
 ;CN=Simon Glass;X-NUM-GUESTS=0:mailto:sjg@google.com
ATTENDEE;CUTYPE=INDIVIDUAL;ROLE=OPT-PARTICIPANT;PARTSTAT=NEEDS-ACTION;RSVP=
 TRUE;CN=andriy.shevchenko@linux.intel.com;X-NUM-GUESTS=0:mailto:andriy.shev
 chenko@linux.intel.com
ATTENDEE;CUTYPE=INDIVIDUAL;ROLE=OPT-PARTICIPANT;PARTSTAT=DECLINED;RSVP=TRUE
 ;CN=Heinrich Schuchardt;X-NUM-GUESTS=0:mailto:xypron.glpk@gmx.de
ATTENDEE;CUTYPE=INDIVIDUAL;ROLE=OPT-PARTICIPANT;PARTSTAT=TENTATIVE;RSVP=TRU
 E;CN=trini@konsulko.com;X-NUM-GUESTS=0:mailto:trini@konsulko.com
ATTENDEE;CUTYPE=INDIVIDUAL;ROLE=OPT-PARTICIPANT;PARTSTAT=TENTATIVE;RSVP=TRU
 E;CN=u-boot-custodians@lists.denx.de;X-NUM-GUESTS=0:mailto:u-boot-custodian
 s@lists.denx.de
ATTENDEE;CUTYPE=INDIVIDUAL;ROLE=REQ-PARTICIPANT;PARTSTAT=DECLINED;RSVP=TRUE
 ;CN=peng.fan@nxp.com;X-NUM-GUESTS=0:mailto:peng.fan@nxp.com
X-GOOGLE-CONFERENCE:https://meet.google.com/ctd-ixfn-kjt
X-MICROSOFT-CDO-OWNERAPPTID:-1540961999
CREATED:20210113T030014Z
DESCRIPTION:\nStanding agenda:\n- Get to know other U-Boot contributors bet
 ter\n- Discuss new features / bugs\n\n-::~:~::~:~:~:~:~:~:~:~:~:~:~:~:~:~:~
 :~:~:~:~:~:~:~:~:~:~:~:~:~:~:~:~:~:~:~:~:~::~:~::-\nDo not edit this sectio
 n of the description.\n\nThis event has a video call.\nJoin: https://meet.g
 oogle.com/ctd-ixfn-kjt\n(US) +1 978-651-1046 PIN: 132174777#\nView more pho
 ne numbers: https://tel.meet/ctd-ixfn-kjt?pin=6952150195668&hs=7\n\nView yo
 ur event at https://calendar.google.com/calendar/event?action=VIEW&eid=MGx2
 dmNtNjFlbmE0azcyY3Q1Z3RyNGlrOGwgdS1ib290LWN1c3RvZGlhbnNAbGlzdHMuZGVueC5kZQ&
 tok=MTQjc2pnQGdvb2dsZS5jb21iOGM0NDRkYjNiMjM1NGFjZmYzNTM2MWRhOWE2MGRjYjU2ODE
 xOTE0&ctz=Pacific%2FAuckland&hl=en_GB&es=0.\n-::~:~::~:~:~:~:~:~:~:~:~:~:~:
 ~:~:~:~:~:~:~:~:~:~:~:~:~:~:~:~:~:~:~:~:~:~:~:~:~::~:~::-
LAST-MODIFIED:20220326T195827Z
LOCATION:
SEQUENCE:0
STATUS:CONFIRMED
SUMMARY:U-Boot Contributors
TRANSP:OPAQUE
ATTACH;FILENAME=U-Boot biweekly 2021;FMTTYPE=application/vnd.google-apps.ki
 x:https://docs.google.com/document/d/1YBOMsbM19uSFyoJWnt7-PsOLBaevzQUgV-hiR
 88a5-o/edit?usp=drive_web
END:VEVENT
END:VCALENDAR
